Package: tomoda Version: 1.14.0 Command: /Library/Frameworks/R.framework/Resources/bin/R CMD build --keep-empty-dirs --no-resave-data tomoda StartedAt: 2024-10-17 00:00:54 -0400 (Thu, 17 Oct 2024) EndedAt: 2024-10-17 00:04:23 -0400 (Thu, 17 Oct 2024) EllapsedTime: 209.2 seconds RetCode: 0 Status: OK PackageFile: tomoda_1.14.0.tar.gz PackageFileSize: 2.904 MiB