Package: tomoda Version: 1.14.0 Command: /home/biocbuild/R/R-beta-2024-04-15_r86425/bin/R CMD build --keep-empty-dirs --no-resave-data tomoda StartedAt: 2024-05-09 04:08:52 -0000 (Thu, 09 May 2024) EndedAt: 2024-05-09 04:11:00 -0000 (Thu, 09 May 2024) EllapsedTime: 127.2 seconds RetCode: 0 Status: OK PackageFile: tomoda_1.14.0.tar.gz PackageFileSize: 1.531 MiB