Package: tomoda Version: 1.14.0 Command: /Library/Frameworks/R.framework/Resources/bin/R CMD build --keep-empty-dirs --no-resave-data tomoda StartedAt: 2024-06-10 06:01:45 -0400 (Mon, 10 Jun 2024) EndedAt: 2024-06-10 06:03:33 -0400 (Mon, 10 Jun 2024) EllapsedTime: 108.3 seconds RetCode: 0 Status: OK PackageFile: tomoda_1.14.0.tar.gz PackageFileSize: 2.911 MiB