Package: tomoda Version: 1.14.0 Command: rm -rf tomoda.buildbin-libdir && mkdir tomoda.buildbin-libdir && /Users/biocbuild/BBS/utils/build-universal.sh tomoda_1.14.0.tar.gz /Library/Frameworks/R.framework/Resources/bin/R tomoda.buildbin-libdir StartedAt: 2024-06-11 13:34:19 -0400 (Tue, 11 Jun 2024) EndedAt: 2024-06-11 13:35:02 -0400 (Tue, 11 Jun 2024) EllapsedTime: 43.2 seconds RetCode: 0 Status: OK PackageFile: tomoda_1.14.0.tgz PackageFileSize: 2.973 MiB