Package: tkWidgets Version: 1.82.0 Command: /home/biocbuild/bbs-3.19-bioc/R/bin/R CMD check --install=check:tkWidgets.install-out.txt --library=/home/biocbuild/bbs-3.19-bioc/R/site-library --timings tkWidgets_1.82.0.tar.gz StartedAt: 2024-10-17 05:56:31 -0400 (Thu, 17 Oct 2024) EndedAt: 2024-10-17 05:57:05 -0400 (Thu, 17 Oct 2024) EllapsedTime: 34.1 seconds RetCode: 0 Status: OK CheckDir: tkWidgets.Rcheck Warnings: 0