Package: tkWidgets Version: 1.82.0 Command: /home/biocbuild/R/R-beta-2024-04-15_r86425/bin/R CMD build --keep-empty-dirs --no-resave-data tkWidgets StartedAt: 2024-05-09 04:08:16 -0000 (Thu, 09 May 2024) EndedAt: 2024-05-09 04:08:29 -0000 (Thu, 09 May 2024) EllapsedTime: 13.0 seconds RetCode: 0 Status: OK PackageFile: tkWidgets_1.82.0.tar.gz PackageFileSize: 468.4 KiB