Package: tkWidgets Version: 1.82.0 Command: /Library/Frameworks/R.framework/Resources/bin/R CMD build --keep-empty-dirs --no-resave-data tkWidgets StartedAt: 2024-10-17 10:44:58 -0400 (Thu, 17 Oct 2024) EndedAt: 2024-10-17 10:45:21 -0400 (Thu, 17 Oct 2024) EllapsedTime: 22.8 seconds RetCode: 0 Status: OK PackageFile: tkWidgets_1.82.0.tar.gz PackageFileSize: 475.3 KiB