Package: tkWidgets Version: 1.82.0 Command: rm -rf tkWidgets.buildbin-libdir && mkdir tkWidgets.buildbin-libdir && /Users/biocbuild/BBS/utils/build-universal.sh tkWidgets_1.82.0.tar.gz /Library/Frameworks/R.framework/Resources/bin/R tkWidgets.buildbin-libdir StartedAt: 2024-10-15 20:38:48 -0400 (Tue, 15 Oct 2024) EndedAt: 2024-10-15 20:39:00 -0400 (Tue, 15 Oct 2024) EllapsedTime: 12.5 seconds RetCode: 0 Status: OK PackageFile: tkWidgets_1.82.0.tgz PackageFileSize: 654 KiB