Package: timescape Version: 1.28.0 Command: E:\biocbuild\bbs-3.19-bioc\R\bin\R.exe CMD INSTALL timescape StartedAt: 2024-10-16 16:47:25 -0400 (Wed, 16 Oct 2024) EndedAt: 2024-10-16 16:47:33 -0400 (Wed, 16 Oct 2024) EllapsedTime: 7.7 seconds RetCode: 0 Status: OK