Package: timescape Version: 1.28.0 Command: /Library/Frameworks/R.framework/Resources/bin/R CMD build --keep-empty-dirs --no-resave-data timescape StartedAt: 2024-06-09 18:26:16 -0400 (Sun, 09 Jun 2024) EndedAt: 2024-06-09 18:26:24 -0400 (Sun, 09 Jun 2024) EllapsedTime: 7.8 seconds RetCode: 0 Status: OK PackageFile: timescape_1.28.0.tar.gz PackageFileSize: 672.6 KiB