Package: timecourse Version: 1.76.0 Command: E:\biocbuild\bbs-3.19-bioc\R\bin\R.exe CMD check --no-multiarch --install=check:timecourse.install-out.txt --library=E:\biocbuild\bbs-3.19-bioc\R\library --no-vignettes --timings timecourse_1.76.0.tar.gz StartedAt: 2024-10-17 06:30:57 -0400 (Thu, 17 Oct 2024) EndedAt: 2024-10-17 06:31:46 -0400 (Thu, 17 Oct 2024) EllapsedTime: 49.5 seconds RetCode: 0 Status: OK CheckDir: timecourse.Rcheck Warnings: 0