Package: timecourse Version: 1.76.0 Command: F:\biocbuild\bbs-3.19-bioc\R\bin\R.exe CMD INSTALL timecourse StartedAt: 2024-06-26 15:44:48 -0400 (Wed, 26 Jun 2024) EndedAt: 2024-06-26 15:45:12 -0400 (Wed, 26 Jun 2024) EllapsedTime: 23.8 seconds RetCode: 0 Status: OK