Package: timecourse Version: 1.76.0 Command: /home/biocbuild/bbs-3.19-bioc/R/bin/R CMD INSTALL timecourse StartedAt: 2024-10-16 15:52:16 -0400 (Wed, 16 Oct 2024) EndedAt: 2024-10-16 15:52:22 -0400 (Wed, 16 Oct 2024) EllapsedTime: 5.2 seconds RetCode: 0 Status: OK