Package: timecourse Version: 1.76.0 Command: /Library/Frameworks/R.framework/Resources/bin/R CMD check --install=check:timecourse.install-out.txt --library=/Library/Frameworks/R.framework/Resources/library --no-vignettes --timings timecourse_1.76.0.tar.gz StartedAt: 2024-10-17 14:22:49 -0400 (Thu, 17 Oct 2024) EndedAt: 2024-10-17 14:24:32 -0400 (Thu, 17 Oct 2024) EllapsedTime: 102.3 seconds RetCode: 0 Status: OK CheckDir: timecourse.Rcheck Warnings: 0