Package: timecourse Version: 1.76.0 Command: /Library/Frameworks/R.framework/Resources/bin/R CMD build --keep-empty-dirs --no-resave-data timecourse StartedAt: 2024-10-16 23:59:51 -0400 (Wed, 16 Oct 2024) EndedAt: 2024-10-17 00:00:42 -0400 (Thu, 17 Oct 2024) EllapsedTime: 50.6 seconds RetCode: 0 Status: OK PackageFile: timecourse_1.76.0.tar.gz PackageFileSize: 841 KiB