Package: timecourse Version: 1.76.0 Command: rm -rf timecourse.buildbin-libdir && mkdir timecourse.buildbin-libdir && /Users/biocbuild/BBS/utils/build-universal.sh timecourse_1.76.0.tar.gz /Library/Frameworks/R.framework/Resources/bin/R timecourse.buildbin-libdir StartedAt: 2024-06-10 00:43:42 -0400 (Mon, 10 Jun 2024) EndedAt: 2024-06-10 00:43:52 -0400 (Mon, 10 Jun 2024) EllapsedTime: 10.2 seconds RetCode: 0 Status: OK PackageFile: timecourse_1.76.0.tgz PackageFileSize: 942.7 KiB