Package: timecourse Version: 1.76.0 Command: /home/biocbuild/R/R-beta-2024-04-15_r86425/bin/R CMD build --keep-empty-dirs --no-resave-data timecourse StartedAt: 2024-05-09 04:07:29 -0000 (Thu, 09 May 2024) EndedAt: 2024-05-09 04:07:49 -0000 (Thu, 09 May 2024) EllapsedTime: 20.0 seconds RetCode: 0 Status: OK PackageFile: timecourse_1.76.0.tar.gz PackageFileSize: 830.9 KiB