Package: timecourse Version: 1.76.0 Command: rm -rf timecourse.buildbin-libdir && mkdir timecourse.buildbin-libdir && /Users/biocbuild/BBS/utils/build-universal.sh timecourse_1.76.0.tar.gz /Library/Frameworks/R.framework/Resources/bin/R timecourse.buildbin-libdir StartedAt: 2024-06-11 13:33:37 -0400 (Tue, 11 Jun 2024) EndedAt: 2024-06-11 13:33:51 -0400 (Tue, 11 Jun 2024) EllapsedTime: 14.4 seconds RetCode: 0 Status: OK PackageFile: timecourse_1.76.0.tgz PackageFileSize: 943.1 KiB