Package: timecourse Version: 1.76.0 Command: rm -rf timecourse.buildbin-libdir && mkdir timecourse.buildbin-libdir && /Users/biocbuild/BBS/utils/build-universal.sh timecourse_1.76.0.tar.gz /Library/Frameworks/R.framework/Resources/bin/R timecourse.buildbin-libdir StartedAt: 2024-10-15 20:38:25 -0400 (Tue, 15 Oct 2024) EndedAt: 2024-10-15 20:38:34 -0400 (Tue, 15 Oct 2024) EllapsedTime: 9.1 seconds RetCode: 0 Status: OK PackageFile: timecourse_1.76.0.tgz PackageFileSize: 942.5 KiB