Package: timeOmics Version: 1.16.0 Command: chmod a+r timeOmics -R && E:\biocbuild\bbs-3.19-bioc\R\bin\R.exe CMD build --keep-empty-dirs --no-resave-data timeOmics StartedAt: 2024-10-16 22:21:33 -0400 (Wed, 16 Oct 2024) EndedAt: 2024-10-16 22:22:26 -0400 (Wed, 16 Oct 2024) EllapsedTime: 53.2 seconds RetCode: 0 Status: OK PackageFile: timeOmics_1.16.0.tar.gz PackageFileSize: 2.767 MiB