Package: tilingArray Version: 1.82.0 Command: rm -rf tilingArray.buildbin-libdir && mkdir tilingArray.buildbin-libdir && E:\biocbuild\bbs-3.19-bioc\R\bin\R.exe CMD INSTALL --build --library=tilingArray.buildbin-libdir tilingArray_1.82.0.tar.gz StartedAt: 2024-10-17 08:47:00 -0400 (Thu, 17 Oct 2024) EndedAt: 2024-10-17 08:47:40 -0400 (Thu, 17 Oct 2024) EllapsedTime: 40.1 seconds RetCode: 0 Status: OK PackageFile: tilingArray_1.82.0.zip PackageFileSize: 3.534 MiB