Package: tilingArray Version: 1.82.0 Command: rm -rf tilingArray.buildbin-libdir && mkdir tilingArray.buildbin-libdir && F:\biocbuild\bbs-3.19-bioc\R\bin\R.exe CMD INSTALL --build --library=tilingArray.buildbin-libdir tilingArray_1.82.0.tar.gz StartedAt: 2024-06-27 09:02:48 -0400 (Thu, 27 Jun 2024) EndedAt: 2024-06-27 09:03:28 -0400 (Thu, 27 Jun 2024) EllapsedTime: 40.2 seconds RetCode: 0 Status: OK PackageFile: tilingArray_1.82.0.zip PackageFileSize: 3.531 MiB