Package: tilingArray Version: 1.82.0 Command: /home/biocbuild/bbs-3.19-bioc/R/bin/R CMD build --keep-empty-dirs --no-resave-data tilingArray StartedAt: 2024-10-16 21:11:08 -0400 (Wed, 16 Oct 2024) EndedAt: 2024-10-16 21:11:43 -0400 (Wed, 16 Oct 2024) EllapsedTime: 35.1 seconds RetCode: 0 Status: OK PackageFile: tilingArray_1.82.0.tar.gz PackageFileSize: 3.134 MiB