Package: tilingArray Version: 1.82.0 Command: /Library/Frameworks/R.framework/Resources/bin/R CMD INSTALL tilingArray StartedAt: 2024-10-16 16:16:53 -0400 (Wed, 16 Oct 2024) EndedAt: 2024-10-16 16:17:47 -0400 (Wed, 16 Oct 2024) EllapsedTime: 54.0 seconds RetCode: 0 Status: OK