Package: tilingArray Version: 1.82.0 Command: /Library/Frameworks/R.framework/Resources/bin/R CMD build --keep-empty-dirs --no-resave-data tilingArray StartedAt: 2024-10-16 23:59:47 -0400 (Wed, 16 Oct 2024) EndedAt: 2024-10-17 00:01:24 -0400 (Thu, 17 Oct 2024) EllapsedTime: 97.5 seconds RetCode: 0 Status: OK PackageFile: tilingArray_1.82.0.tar.gz PackageFileSize: 3.487 MiB