Package: tilingArray Version: 1.82.0 Command: rm -rf tilingArray.buildbin-libdir && mkdir tilingArray.buildbin-libdir && /Users/biocbuild/BBS/utils/build-universal.sh tilingArray_1.82.0.tar.gz /Library/Frameworks/R.framework/Resources/bin/R tilingArray.buildbin-libdir StartedAt: 2024-10-17 17:21:42 -0400 (Thu, 17 Oct 2024) EndedAt: 2024-10-17 17:22:42 -0400 (Thu, 17 Oct 2024) EllapsedTime: 60.2 seconds RetCode: 0 Status: OK PackageFile: tilingArray_1.82.0.tgz PackageFileSize: 3.874 MiB