Package: tilingArray Version: 1.82.0 Command: /home/biocbuild/R/R-beta-2024-04-15_r86425/bin/R CMD build --keep-empty-dirs --no-resave-data tilingArray StartedAt: 2024-05-09 04:07:29 -0000 (Thu, 09 May 2024) EndedAt: 2024-05-09 04:08:15 -0000 (Thu, 09 May 2024) EllapsedTime: 46.1 seconds RetCode: 0 Status: OK PackageFile: tilingArray_1.82.0.tar.gz PackageFileSize: 3.459 MiB