Package: tidyomics Version: 1.0.0 Command: chmod a+r tidyomics -R && E:\biocbuild\bbs-3.19-bioc\R\bin\R.exe CMD build --keep-empty-dirs --no-resave-data tidyomics StartedAt: 2024-10-16 22:20:16 -0400 (Wed, 16 Oct 2024) EndedAt: 2024-10-16 22:21:02 -0400 (Wed, 16 Oct 2024) EllapsedTime: 45.3 seconds RetCode: 0 Status: OK PackageFile: tidyomics_1.0.0.tar.gz PackageFileSize: 55.45 KiB