Package: tidyomics Version: 1.0.0 Command: /home/biocbuild/bbs-3.19-bioc/R/bin/R CMD build --keep-empty-dirs --no-resave-data tidyomics StartedAt: 2024-10-16 21:09:57 -0400 (Wed, 16 Oct 2024) EndedAt: 2024-10-16 21:10:33 -0400 (Wed, 16 Oct 2024) EllapsedTime: 36.0 seconds RetCode: 0 Status: OK PackageFile: tidyomics_1.0.0.tar.gz PackageFileSize: 55.54 KiB