Package: tidyomics Version: 1.0.0 Command: /Library/Frameworks/R.framework/Resources/bin/R CMD build --keep-empty-dirs --no-resave-data tidyomics StartedAt: 2024-10-17 10:41:01 -0400 (Thu, 17 Oct 2024) EndedAt: 2024-10-17 10:41:49 -0400 (Thu, 17 Oct 2024) EllapsedTime: 47.5 seconds RetCode: 0 Status: OK PackageFile: tidyomics_1.0.0.tar.gz PackageFileSize: 55.43 KiB