Package: tidyomics Version: 1.0.0 Command: rm -rf tidyomics.buildbin-libdir && mkdir tidyomics.buildbin-libdir && /Users/biocbuild/BBS/utils/build-universal.sh tidyomics_1.0.0.tar.gz /Library/Frameworks/R.framework/Resources/bin/R tidyomics.buildbin-libdir StartedAt: 2024-10-15 20:37:34 -0400 (Tue, 15 Oct 2024) EndedAt: 2024-10-15 20:38:26 -0400 (Tue, 15 Oct 2024) EllapsedTime: 52.2 seconds RetCode: 0 Status: OK PackageFile: tidyomics_1.0.0.tgz PackageFileSize: 72.69 KiB