Package: tidybulk Version: 1.16.0 Command: E:\biocbuild\bbs-3.19-bioc\R\bin\R.exe CMD check --no-multiarch --install=check:tidybulk.install-out.txt --library=E:\biocbuild\bbs-3.19-bioc\R\library --no-vignettes --timings tidybulk_1.16.0.tar.gz StartedAt: 2024-10-17 06:29:10 -0400 (Thu, 17 Oct 2024) EndedAt: 2024-10-17 06:39:41 -0400 (Thu, 17 Oct 2024) EllapsedTime: 631.1 seconds RetCode: 1 Status: ERROR CheckDir: tidybulk.Rcheck Warnings: NA