Package: tidybulk Version: 1.16.0 Command: chmod a+r tidybulk -R && E:\biocbuild\bbs-3.19-bioc\R\bin\R.exe CMD build --keep-empty-dirs --no-resave-data tidybulk StartedAt: 2024-10-16 22:20:08 -0400 (Wed, 16 Oct 2024) EndedAt: 2024-10-16 22:21:50 -0400 (Wed, 16 Oct 2024) EllapsedTime: 102.0 seconds RetCode: 0 Status: OK PackageFile: tidybulk_1.16.0.tar.gz PackageFileSize: 2.755 MiB