Package: tidybulk Version: 1.16.0 Command: chmod a+r tidybulk -R && F:\biocbuild\bbs-3.19-bioc\R\bin\R.exe CMD build --keep-empty-dirs --no-resave-data tidybulk StartedAt: 2024-06-26 22:21:47 -0400 (Wed, 26 Jun 2024) EndedAt: 2024-06-26 22:23:42 -0400 (Wed, 26 Jun 2024) EllapsedTime: 115.3 seconds RetCode: 0 Status: OK PackageFile: tidybulk_1.16.0.tar.gz PackageFileSize: 2.755 MiB