Package: tidybulk Version: 1.16.0 Command: rm -rf tidybulk.buildbin-libdir && mkdir tidybulk.buildbin-libdir && F:\biocbuild\bbs-3.19-bioc\R\bin\R.exe CMD INSTALL --build --library=tidybulk.buildbin-libdir tidybulk_1.16.0.tar.gz StartedAt: 2024-06-27 09:02:31 -0400 (Thu, 27 Jun 2024) EndedAt: 2024-06-27 09:03:48 -0400 (Thu, 27 Jun 2024) EllapsedTime: 77.2 seconds RetCode: 0 Status: OK PackageFile: tidybulk_1.16.0.zip PackageFileSize: 3.326 MiB