Package: tidybulk Version: 1.16.0 Command: /Library/Frameworks/R.framework/Resources/bin/R CMD INSTALL tidybulk StartedAt: 2024-10-16 16:02:33 -0400 (Wed, 16 Oct 2024) EndedAt: 2024-10-16 16:04:32 -0400 (Wed, 16 Oct 2024) EllapsedTime: 119.0 seconds RetCode: 0 Status: OK