Package: tidybulk Version: 1.16.0 Command: /Library/Frameworks/R.framework/Resources/bin/R CMD check --install=check:tidybulk.install-out.txt --library=/Library/Frameworks/R.framework/Resources/library --no-vignettes --timings tidybulk_1.16.0.tar.gz StartedAt: 2024-10-17 14:19:48 -0400 (Thu, 17 Oct 2024) EndedAt: 2024-10-17 14:39:55 -0400 (Thu, 17 Oct 2024) EllapsedTime: 1206.4 seconds RetCode: 1 Status: ERROR CheckDir: tidybulk.Rcheck Warnings: NA