Package: tidybulk Version: 1.16.0 Command: /Library/Frameworks/R.framework/Resources/bin/R CMD build --keep-empty-dirs --no-resave-data tidybulk StartedAt: 2024-10-16 23:57:08 -0400 (Wed, 16 Oct 2024) EndedAt: 2024-10-17 00:00:16 -0400 (Thu, 17 Oct 2024) EllapsedTime: 187.8 seconds RetCode: 0 Status: OK PackageFile: tidybulk_1.16.0.tar.gz PackageFileSize: 2.87 MiB