Package: tidybulk Version: 1.16.0 Command: /Library/Frameworks/R.framework/Resources/bin/R CMD INSTALL tidybulk StartedAt: 2024-06-09 15:20:47 -0400 (Sun, 09 Jun 2024) EndedAt: 2024-06-09 15:21:51 -0400 (Sun, 09 Jun 2024) EllapsedTime: 64.2 seconds RetCode: 0 Status: OK