Package: tidybulk Version: 1.16.0 Command: /Library/Frameworks/R.framework/Resources/bin/R CMD build --keep-empty-dirs --no-resave-data tidybulk StartedAt: 2024-06-09 18:25:29 -0400 (Sun, 09 Jun 2024) EndedAt: 2024-06-09 18:26:47 -0400 (Sun, 09 Jun 2024) EllapsedTime: 77.7 seconds RetCode: 0 Status: OK PackageFile: tidybulk_1.16.0.tar.gz PackageFileSize: 2.87 MiB