Package: tidybulk Version: 1.16.0 Command: /home/biocbuild/R/R-beta-2024-04-15_r86425/bin/R CMD check --install=check:tidybulk.install-out.txt --library=/home/biocbuild/R/R-beta-2024-04-15_r86425/site-library --no-vignettes --timings tidybulk_1.16.0.tar.gz StartedAt: 2024-05-08 12:40:37 -0000 (Wed, 08 May 2024) EndedAt: 2024-05-08 12:52:52 -0000 (Wed, 08 May 2024) EllapsedTime: 735.3 seconds RetCode: 1 Status: ERROR CheckDir: tidybulk.Rcheck Warnings: NA