Package: tidybulk Version: 1.16.0 Command: /Library/Frameworks/R.framework/Resources/bin/R CMD INSTALL tidybulk StartedAt: 2024-06-09 16:29:02 -0400 (Sun, 09 Jun 2024) EndedAt: 2024-06-09 16:30:09 -0400 (Sun, 09 Jun 2024) EllapsedTime: 67.6 seconds RetCode: 0 Status: OK