Package: tidybulk Version: 1.16.0 Command: /Library/Frameworks/R.framework/Resources/bin/R CMD build --keep-empty-dirs --no-resave-data tidybulk StartedAt: 2024-06-10 05:56:11 -0400 (Mon, 10 Jun 2024) EndedAt: 2024-06-10 05:58:09 -0400 (Mon, 10 Jun 2024) EllapsedTime: 118.4 seconds RetCode: 0 Status: OK PackageFile: tidybulk_1.16.0.tar.gz PackageFileSize: 2.869 MiB