Package: tidybulk Version: 1.16.0 Command: /Library/Frameworks/R.framework/Resources/bin/R CMD INSTALL tidybulk StartedAt: 2024-10-16 17:28:38 -0400 (Wed, 16 Oct 2024) EndedAt: 2024-10-16 17:29:35 -0400 (Wed, 16 Oct 2024) EllapsedTime: 57.6 seconds RetCode: 0 Status: OK