Package: tidybulk Version: 1.16.0 Command: /Library/Frameworks/R.framework/Resources/bin/R CMD check --install=check:tidybulk.install-out.txt --library=/Library/Frameworks/R.framework/Resources/library --no-vignettes --timings tidybulk_1.16.0.tar.gz StartedAt: 2024-10-18 15:04:32 -0400 (Fri, 18 Oct 2024) EndedAt: 2024-10-18 15:16:00 -0400 (Fri, 18 Oct 2024) EllapsedTime: 687.8 seconds RetCode: 1 Status: ERROR CheckDir: tidybulk.Rcheck Warnings: NA