Package: tidybulk Version: 1.16.0 Command: rm -rf tidybulk.buildbin-libdir && mkdir tidybulk.buildbin-libdir && /Users/biocbuild/BBS/utils/build-universal.sh tidybulk_1.16.0.tar.gz /Library/Frameworks/R.framework/Resources/bin/R tidybulk.buildbin-libdir StartedAt: 2024-10-15 20:36:59 -0400 (Tue, 15 Oct 2024) EndedAt: 2024-10-15 20:38:09 -0400 (Tue, 15 Oct 2024) EllapsedTime: 70.1 seconds RetCode: 0 Status: OK PackageFile: tidybulk_1.16.0.tgz PackageFileSize: 3.421 MiB