Package: tidySummarizedExperiment Version: 1.14.0 Command: rm -rf tidySummarizedExperiment.buildbin-libdir && mkdir tidySummarizedExperiment.buildbin-libdir && E:\biocbuild\bbs-3.19-bioc\R\bin\R.exe CMD INSTALL --build --library=tidySummarizedExperiment.buildbin-libdir tidySummarizedExperiment_1.14.0.tar.gz StartedAt: 2024-10-17 08:46:55 -0400 (Thu, 17 Oct 2024) EndedAt: 2024-10-17 08:48:30 -0400 (Thu, 17 Oct 2024) EllapsedTime: 95.2 seconds RetCode: 0 Status: OK PackageFile: tidySummarizedExperiment_1.14.0.zip PackageFileSize: 647.7 KiB