Package: tidySummarizedExperiment Version: 1.14.0 Command: /home/biocbuild/bbs-3.19-bioc/R/bin/R CMD build --keep-empty-dirs --no-resave-data tidySummarizedExperiment StartedAt: 2024-10-16 21:10:42 -0400 (Wed, 16 Oct 2024) EndedAt: 2024-10-16 21:11:21 -0400 (Wed, 16 Oct 2024) EllapsedTime: 39.1 seconds RetCode: 0 Status: OK PackageFile: tidySummarizedExperiment_1.14.0.tar.gz PackageFileSize: 356.7 KiB