Package: tidySummarizedExperiment Version: 1.14.0 Command: /Library/Frameworks/R.framework/Resources/bin/R CMD INSTALL tidySummarizedExperiment StartedAt: 2024-10-16 16:02:43 -0400 (Wed, 16 Oct 2024) EndedAt: 2024-10-16 16:03:45 -0400 (Wed, 16 Oct 2024) EllapsedTime: 62.0 seconds RetCode: 0 Status: OK