Package: tidySummarizedExperiment Version: 1.14.0 Command: /Library/Frameworks/R.framework/Resources/bin/R CMD check --install=check:tidySummarizedExperiment.install-out.txt --library=/Library/Frameworks/R.framework/Resources/library --no-vignettes --timings tidySummarizedExperiment_1.14.0.tar.gz StartedAt: 2024-10-17 14:21:51 -0400 (Thu, 17 Oct 2024) EndedAt: 2024-10-17 14:32:24 -0400 (Thu, 17 Oct 2024) EllapsedTime: 633.0 seconds RetCode: 0 Status: OK CheckDir: tidySummarizedExperiment.Rcheck Warnings: 0